BEGIN:VCALENDAR
VERSION:2.0
PRODID:-//SISUMMIT//PROGRAM//TR
BEGIN:VEVENT
SUMMARY:Panel - Akışın Zekâsı: Endüstri, Telekom ve Lojistikte Etik ve Sorumlu AI ile Sürdürülebilir Operasyon
DESCRIPTION:Bu açılış paneli, birbirine bağlanan üretim hatları, telekom ağları ve tedarik zincirlerinde etik ve sorumlu yapay zekânın nasıl sürdürülebilir etki ürettiğini tartışıyor.
 https://sisummit.com.tr/tr/program/surdurulebilirlik-ve-inovasyon-seminerleri/panel-akisin-zekasi-endustri-telekom-ve-lojistikte-etik-ve-sorumlu-ai-ile-surdurulebilir-operasyon/F89D5174
DTSTART:20251120T062000Z
DTEND:20250120T065000Z
LOCATION:Albert Long Hall | Boğaziçi Üniversitesi
END:VEVENT
END:VCALENDAR
